BEGIN:VCALENDAR
VERSION:2.0
PRODID:-//Sabre//Sabre VObject 4.5.1//EN
CALSCALE:GREGORIAN
BEGIN:VEVENT
UID:sabre-vobject-838a924b-3afb-4bcb-97b4-c33478ee7631
DTSTAMP:20260420T160846Z
SUMMARY:Séance du conseil (19 h)
DESCRIPTION:\n\nVoir: https://rawdon.ca/fr/evenements/seances-du-conseil/se
 ance-du-conseil-2026-06-08
LOCATION:Centre Metcalfe
DTSTART;TZID=America/New_York:20260608T190000
DTEND;TZID=America/New_York:20260608T210000
END:VEVENT
END:VCALENDAR
