BEGIN:VCALENDAR
VERSION:2.0
PRODID:-//Sabre//Sabre VObject 4.5.1//EN
CALSCALE:GREGORIAN
BEGIN:VEVENT
UID:sabre-vobject-394f7017-13aa-4a58-9877-b6b1cb52990a
DTSTAMP:20260420T115827Z
SUMMARY:Exposition Biophilie (15 h)
DESCRIPTION:Installation de l'œuvre collective Biophilie\n\nVoir: https://
 rawdon.ca/fr/evenements/activites/exposition-biophilie
LOCATION:Relais d'information touristique
DTSTART;TZID=America/New_York:20260502T150000
DTEND;TZID=America/New_York:20260502T150000
END:VEVENT
END:VCALENDAR
