BEGIN:VCALENDAR
VERSION:2.0
PRODID:-//Sabre//Sabre VObject 4.5.1//EN
CALSCALE:GREGORIAN
BEGIN:VEVENT
UID:sabre-vobject-48c84989-5466-49cb-9268-0051b6bff28a
DTSTAMP:20260420T115629Z
SUMMARY:Échos d'histoires : sculpture de dialogue collectif (15 h)
DESCRIPTION:Exposition du collectif Junco\n\nVoir: https://rawdon.ca/fr/eve
 nements/activites/echos-dhistoires-sculpture-de-dialogue-collectif
LOCATION:Relais d'information touristique
DTSTART;TZID=America/New_York:20260502T150000
DTEND;TZID=America/New_York:20260502T200000
END:VEVENT
END:VCALENDAR
