BEGIN:VCALENDAR
VERSION:2.0
PRODID:-//Sabre//Sabre VObject 4.5.1//EN
CALSCALE:GREGORIAN
BEGIN:VEVENT
UID:sabre-vobject-31df3df4-885e-4c2e-b541-18044af59f76
DTSTAMP:20260420T181251Z
SUMMARY:24 heures de science
DESCRIPTION:Dans le cadre du 24 h de science\, la bibliothèque t’invite 
 à découvrir son sac à dos d’exploration des bestioles.\n\nVoir: https
 ://rawdon.ca/fr/evenements/bibliotheque-alice-quintal/24-heures-de-science
 -2026-05-01
LOCATION:Bibliothèque Alice-Quintal
DTSTART;TZID=America/New_York:20260501T120000
DTEND;TZID=America/New_York:20260502T170000
END:VEVENT
END:VCALENDAR
