BEGIN:VCALENDAR
VERSION:2.0
PRODID:-//Sabre//Sabre VObject 4.5.1//EN
CALSCALE:GREGORIAN
BEGIN:VEVENT
UID:sabre-vobject-69411286-642d-4f70-a265-5a4658de5658
DTSTAMP:20260420T181251Z
SUMMARY:Initiation ultimate frisbee | NOUVEAUTÉ (18 h et/ou 19 h)
DESCRIPTION:Tout le mois de mai\, célébrons la journée nationale du spor
 t et de l'activité physique.\n\nVoir: https://rawdon.ca/fr/evenements/act
 ivites/initiation-ultimate-frisbee-avec-julie-barbeau-elfee-mirandette-nou
 veaute
LOCATION:Parc Donald-Stewart
DTSTART;TZID=America/New_York:20260526T180000
DTEND;TZID=America/New_York:20260526T200000
END:VEVENT
END:VCALENDAR
