BEGIN:VCALENDAR
VERSION:2.0
PRODID:-//Sabre//Sabre VObject 4.5.1//EN
CALSCALE:GREGORIAN
BEGIN:VEVENT
UID:sabre-vobject-f1188980-90af-4a6d-93b8-f84c8abcf05c
DTSTAMP:20260420T154457Z
SUMMARY:Le Défi du lac Rawdon - Nage en eau libre | NOUVEAUTÉ (9 h à mid
 i)
DESCRIPTION:Venez nager avec nous\, pas besoin d’être un pro\, seulement
  savoir nager.\n\nVoir: https://rawdon.ca/fr/evenements/activites/nage-en-
 eau-libre-12-ans-et-nouveaute
LOCATION:Plage municipale
DTSTART;TZID=America/New_York:20260620T090000
DTEND;TZID=America/New_York:20260620T120000
END:VEVENT
END:VCALENDAR
