BEGIN:VCALENDAR
VERSION:2.0
PRODID:-//Sabre//Sabre VObject 4.5.1//EN
CALSCALE:GREGORIAN
BEGIN:VEVENT
UID:sabre-vobject-163466bb-ee21-40d6-abad-7c09c18647c8
DTSTAMP:20260420T160508Z
SUMMARY:Briques à blocs (18 h à 20 h)
DESCRIPTION:Atelier de Lego avec Geneviève Champoux!\n\nVoir: https://rawd
 on.ca/fr/evenements/bibliotheque-alice-quintal/briques-blocs-7
LOCATION:Salle d'animation de la bibliothèque
DTSTART;TZID=America/New_York:20260424T180000
DTEND;TZID=America/New_York:20260424T200000
END:VEVENT
END:VCALENDAR
