BEGIN:VCALENDAR
VERSION:2.0
PRODID:-//Sabre//Sabre VObject 4.5.1//EN
CALSCALE:GREGORIAN
BEGIN:VEVENT
UID:sabre-vobject-e2c2303f-11e3-4e5a-bf4b-33e391f115e3
DTSTAMP:20260420T155508Z
SUMMARY:Briques à blocs (18 h à 20 h)
DESCRIPTION:Atelier de Lego avec Geneviève Champoux!\n\nVoir: https://rawd
 on.ca/fr/evenements/bibliotheque-alice-quintal/briques-a-blocs-2026-05-22-
 1
LOCATION:Salle d'animation de la bibliothèque
DTSTART;TZID=America/New_York:20260522T180000
DTEND;TZID=America/New_York:20260522T200000
END:VEVENT
END:VCALENDAR
